BEGIN:VCALENDAR
METHOD:PUBLISH
VERSION:2.0
CALSCALE:GREGORIAN
PRODID:-//NONSGML WPForms//NONSGML Sugar Calendar Feeds v3.11.0//EN
X-WR-CALNAME:2026 CSMTA Concerto Competition Winners’ Concert
X-WR-CALDESC:Front Porch
X-WR-TIMEZONE:America/Denver
BEGIN:VTIMEZONE
TZID:America/Denver
BEGIN:DAYLIGHT
TZOFFSETFROM:-0700
TZOFFSETTO:-0600
DTSTART:20260308T090000
TZNAME:MDT
END:DAYLIGHT
END:VTIMEZONE
BEGIN:VTIMEZONE
TZID:America/Denver
BEGIN:DAYLIGHT
TZOFFSETFROM:-0700
TZOFFSETTO:-0600
DTSTART:20260308T090000
TZNAME:MDT
END:DAYLIGHT
END:VTIMEZONE
BEGIN:VEVENT
SUMMARY:2026 CSMTA Concerto Competition Winners’ Concert
DESCRIPTION:We are thrilled to host the third annual collaboration with 
 the Colorado State Music Teachers Association (CSMTA) for their Concerto
  Competition Winners' Concert. Young musicians from across the state com
 pete for the chance to perform as soloists with the Boulder Chamber Orch
 estra—an event that’s truly something special.\n\nProgram:\n\nThe pr
 ogram will be announced in April 2026. The orchestra will be joined by w
 inners of the 2026 Colorado State Music Teachers Association (CSMTA) Con
 certo Competition.
URL;VALUE=URI:https://frontporchne.com/events/2026-csmta-concerto-compet
 ition-winners-concert/
UID:urn:uuid:2885b1a0-8b7b-41f0-9380-4e03bd7d8a9e
STATUS:CONFIRMED
ORGANIZER:
DTSTAMP:20260423T150119Z
DTSTART;TZID=America/Denver:20260509T234500
DTEND;TZID=America/Denver:20260509T234500
LOCATION:Boulder Adventist Church\n345 Mapleton Avenue\nBoulder\, CO 803
 04
END:VEVENT
END:VCALENDAR