BEGIN:VCALENDAR
METHOD:PUBLISH
VERSION:2.0
CALSCALE:GREGORIAN
PRODID:-//NONSGML WPForms//NONSGML Sugar Calendar Feeds v3.11.0//EN
X-WR-CALNAME:Africa Day: Diaspora Dialogues
X-WR-CALDESC:Front Porch
X-WR-TIMEZONE:America/Denver
BEGIN:VTIMEZONE
TZID:America/Denver
BEGIN:DAYLIGHT
TZOFFSETFROM:-0700
TZOFFSETTO:-0600
DTSTART:20260308T090000
TZNAME:MDT
END:DAYLIGHT
END:VTIMEZONE
BEGIN:VTIMEZONE
TZID:America/Denver
BEGIN:DAYLIGHT
TZOFFSETFROM:-0700
TZOFFSETTO:-0600
DTSTART:20260308T090000
TZNAME:MDT
END:DAYLIGHT
END:VTIMEZONE
BEGIN:VEVENT
SUMMARY:Africa Day: Diaspora Dialogues
DESCRIPTION:Come to learn and celebrate with Refugees + Immigrants Unite
 d and Arapahoe Libraries as we honor Africa Day with our senses\, heart 
 and mind:\n\n- Taste Ethiopian coffee and food\n- Feel the rhythm of the
  drums\n- Explore color and patterns\n- Watch and learn about Africa Day
 \n- Listen to a panel discussion on lived experiences of African diaspor
 a in Colorado\n\nThis event is offered in partnership with Refugees + Im
 migrants United\, a local refugee-founded and fully refugee-led nonprofi
 t organization that is dedicated to connecting\, educating\, and celebra
 ting the unique perspectives and expertise of refugees and immigrants.\n
 \nThis event is family-friendly and all are welcome!
URL;VALUE=URI:https://frontporchne.com/events/africa-day-diaspora-dialog
 ues/
UID:urn:uuid:48c0af4f-5281-48f4-b5d9-d443a8e4639c
STATUS:CONFIRMED
ORGANIZER:
DTSTAMP:20260425T040132Z
DTSTART;TZID=America/Denver:20260523T110000
DTEND;TZID=America/Denver:20260523T140000
LOCATION:Eloise May Library\, 1471 S. Parker Rd. Denver\, CO 80231
END:VEVENT
END:VCALENDAR