BEGIN:VCALENDAR
METHOD:PUBLISH
VERSION:2.0
CALSCALE:GREGORIAN
PRODID:-//NONSGML WPForms//NONSGML Sugar Calendar Feeds v3.11.0//EN
X-WR-CALNAME:Ahamed Weinberg at Denver Comedy Underground (Just for Laug
 hs\, Late Night w/Seth Myers)
X-WR-CALDESC:Front Porch
X-WR-TIMEZONE:America/Denver
BEGIN:VTIMEZONE
TZID:America/Denver
BEGIN:STANDARD
TZOFFSETFROM:-0600
TZOFFSETTO:-0700
DTSTART:20251102T080000
TZNAME:MST
END:STANDARD
END:VTIMEZONE
BEGIN:VTIMEZONE
TZID:America/Denver
BEGIN:STANDARD
TZOFFSETFROM:-0600
TZOFFSETTO:-0700
DTSTART:20251102T080000
TZNAME:MST
END:STANDARD
END:VTIMEZONE
BEGIN:VEVENT
SUMMARY:Ahamed Weinberg at Denver Comedy Underground (Just for Laughs\, 
 Late Night w/Seth Myers)
DESCRIPTION:Catch Ahamed Weinberg at Denver Comedy Underground\, the cit
 y’s home for the best underground comedy shows. Known for his offbeat 
 charm\, sharp storytelling\, and quietly explosive delivery\, Ahamed bri
 ngs a one-of-a-kind comedic voice you won’t find anywhere else.\n\nAha
 med is a Los Angeles–based comedian originally from Philadelphia\, and
  he’s quickly become one of the most celebrated rising names in stand-
 up. He made his late-night debut on Late Night with Seth Meyers (NBC) an
 d has been recognized as one of TimeOut LA’s Comics to Watch\, Vulture
 ’s 20 Comics to Watch\, and a New Face at the prestigious Just For Lau
 ghs Festival in Montreal.\n\nHis credits span some of comedy’s biggest
  platforms\, including writing\, directing\, and starring in two seasons
  of Ahamed’s Ramadan Diaries for Comedy Central Digital. You’ve also
  seen him on Comedy Bang Bang (IFC)\, The Eric Andre Show (Adult Swim)\,
  I Love You\, America (Hulu)\, Comedy Knockout (truTV)\, and Insecure (H
 BO). His short film Lovebirds premiered on Amazon Prime’s FunnyFest\, 
 and his hit Facebook series Please Understand Me\, executive produced by
  Sarah Silverman\, has earned millions of views. Most recently\, Ahamed 
 performed on The Late Show with Stephen Colbert (CBS).\n\nThis is your c
 hance to see a uniquely thoughtful\, inventive\, and ridiculously funny 
 comedian up close in an intimate underground setting. If you’re search
 ing for a comedy show in Denver that delivers originality and big laughs
 \, this is the one you don’t want to miss.\n\n\nHappens on the followi
 ng Dates:\nJan 9\, 2026\, 7:30pm to 9:00pm Timezone: Mountain Time (US &
  Canada)\nJan 9\, 2026\, 9:45pm to 11:15pm Timezone: Mountain Time (US &
  Canada)\nJan 10\, 2026\, 7:30pm to 9:00pm Timezone: Mountain Time (US &
  Canada)\nJan 10\, 2026\, 9:45pm to 11:15pm Timezone: Mountain Time (US 
 & Canada)
URL;VALUE=URI:https://frontporchne.com/events/ahamed-weinberg-at-denver-
 comedy-underground-just-for-laughs-late-night-w-seth-myers/
UID:urn:uuid:4eaa04c0-1bd5-46d4-921a-e52263fa5f19
STATUS:CONFIRMED
ORGANIZER:
DTSTAMP:20260425T014549Z
DTSTART;TZID=America/Denver:20260109T193000
DTEND;TZID=America/Denver:20260110T233000
LOCATION:Denver Comedy Underground 675 22nd Street Denver\, CO 80205
END:VEVENT
END:VCALENDAR