BEGIN:VCALENDAR
METHOD:PUBLISH
VERSION:2.0
CALSCALE:GREGORIAN
PRODID:-//NONSGML WPForms//NONSGML Sugar Calendar Feeds v3.11.0//EN
X-WR-CALNAME:Aloe Propagation Pop-Up
X-WR-CALDESC:Front Porch
X-WR-TIMEZONE:America/Denver
BEGIN:VTIMEZONE
TZID:America/Denver
BEGIN:DAYLIGHT
TZOFFSETFROM:-0700
TZOFFSETTO:-0600
DTSTART:20260308T090000
TZNAME:MDT
END:DAYLIGHT
END:VTIMEZONE
BEGIN:VTIMEZONE
TZID:America/Denver
BEGIN:DAYLIGHT
TZOFFSETFROM:-0700
TZOFFSETTO:-0600
DTSTART:20260308T090000
TZNAME:MDT
END:DAYLIGHT
END:VTIMEZONE
BEGIN:VEVENT
SUMMARY:Aloe Propagation Pop-Up
DESCRIPTION:We're welcoming Lilbit into our taproom with aloe vera pups 
 for sale! Swing by from 12:30-2:30pm - or whenever they sell out.
URL;VALUE=URI:https://frontporchne.com/events/aloe-propagation-pop-up/
UID:urn:uuid:7c683818-21b6-4c0c-9032-af3c1ec732d6
STATUS:CONFIRMED
ORGANIZER:
DTSTAMP:20260424T041424Z
DTSTART;TZID=America/Denver:20260517T123000
DTEND;TZID=America/Denver:20260517T143000
LOCATION:Fiction Beer Company\n7101 East Colfax Avenue
END:VEVENT
END:VCALENDAR