BEGIN:VCALENDAR
METHOD:PUBLISH
VERSION:2.0
CALSCALE:GREGORIAN
PRODID:-//NONSGML WPForms//NONSGML Sugar Calendar Feeds v3.11.0//EN
X-WR-CALNAME:Ari Matti
X-WR-CALDESC:Front Porch
X-WR-TIMEZONE:America/Denver
BEGIN:VTIMEZONE
TZID:America/Denver
BEGIN:STANDARD
TZOFFSETFROM:-0600
TZOFFSETTO:-0700
DTSTART:20251102T080000
TZNAME:MST
END:STANDARD
BEGIN:DAYLIGHT
TZOFFSETFROM:-0700
TZOFFSETTO:-0600
DTSTART:20260308T090000
TZNAME:MDT
END:DAYLIGHT
END:VTIMEZONE
BEGIN:VTIMEZONE
TZID:America/Denver
BEGIN:STANDARD
TZOFFSETFROM:-0600
TZOFFSETTO:-0700
DTSTART:20251102T080000
TZNAME:MST
END:STANDARD
BEGIN:DAYLIGHT
TZOFFSETFROM:-0700
TZOFFSETTO:-0600
DTSTART:20260308T090000
TZNAME:MDT
END:DAYLIGHT
END:VTIMEZONE
BEGIN:VEVENT
SUMMARY:Ari Matti
DESCRIPTION:Comedy Works Downtown presents Ari Matti performing April 23
 rd\, 24th &amp\; 25th 2026!\n\nVIP tickets include priority seating loca
 ted in rows one through six!\n\nHailing from Estonia and currently resid
 ing in Austin\, Texas\, Ari Matti Mustonen has a bright future ahead of 
 him. With enough on-stage energy to power a small town and punchlines to
  match\, Ari has been enthralling audiences around the world for 12 year
 s with stories about life growing up in Eastern Europe. Ari has an effor
 tless charm while being unafraid to put forward his point of view. He re
 cently returned from a year in Vancouver\, Canada\, where he worked as a
  feature act and eventually a headliner for Yuk Yuks and The Comedy Mix.
  As a highlight of his time\, he self-promoted and performed his hour â€
 śImported Goodsâ€ť at the Rio Theater in Vancouver\, selling 350 seats.\
 nAri is a paid regular at Joe Roganâ€™s Comedy Mothership\, as well as a
  recurring member of the #1 live podcast in the world\, Kill Tony. He ha
 s performed many times internationally\, including in Europe\, Asia\, Au
 stralia\, Canada\, and the United States. Ariâ€™s other passion is marti
 al arts\, he has become a figure in the local MMA community in Estonia a
 nd has commentated numerous international pay per view fights.
URL;VALUE=URI:https://frontporchne.com/events/ari-matti/
UID:urn:uuid:f2b793d2-a3fd-4b16-bb16-1b1e8a777efd
STATUS:CONFIRMED
ORGANIZER:
DTSTAMP:20260423T072850Z
DTSTART;TZID=America/Denver:20260423T193000
DTEND;TZID=America/Denver:20260425T230000
LOCATION:Comedy Works Downtown\n1226 15th Street Denver\, CO 80202
END:VEVENT
END:VCALENDAR