BEGIN:VCALENDAR
METHOD:PUBLISH
VERSION:2.0
CALSCALE:GREGORIAN
PRODID:-//NONSGML WPForms//NONSGML Sugar Calendar Feeds v3.11.0//EN
X-WR-CALNAME:Art + Action Lab May Market
X-WR-CALDESC:Front Porch
X-WR-TIMEZONE:America/Denver
BEGIN:VTIMEZONE
TZID:America/Denver
BEGIN:STANDARD
TZOFFSETFROM:-0600
TZOFFSETTO:-0700
DTSTART:20251102T080000
TZNAME:MST
END:STANDARD
BEGIN:DAYLIGHT
TZOFFSETFROM:-0700
TZOFFSETTO:-0600
DTSTART:20260308T090000
TZNAME:MDT
END:DAYLIGHT
END:VTIMEZONE
BEGIN:VTIMEZONE
TZID:America/Denver
BEGIN:STANDARD
TZOFFSETFROM:-0600
TZOFFSETTO:-0700
DTSTART:20251102T080000
TZNAME:MST
END:STANDARD
BEGIN:DAYLIGHT
TZOFFSETFROM:-0700
TZOFFSETTO:-0600
DTSTART:20260308T090000
TZNAME:MDT
END:DAYLIGHT
END:VTIMEZONE
BEGIN:VEVENT
SUMMARY:Art + Action Lab May Market
DESCRIPTION:Friday\, May 1\, 5-8pm \n\nCVA is hosting an art market for 
 our Art + Action Lab interns! Swing by CVA during May’s 1st Friday Art
  Walk to check out the handcrafted art and goods created by our high sch
 ool interns of past and present.⁠ Support these young creatives and bu
 y some cool handmade stuff! \n\n \n\nCVA’s Art + Action Lab offers in-
 depth programming for teens interested in creative careers. Our current 
 programs include an introduction to creative careers through a paid inte
 rnship\, focused professional development\, and a conversation series wi
 th local arts professionals.
URL;VALUE=URI:https://frontporchne.com/events/art-action-lab-may-market/
UID:urn:uuid:71817870-40c9-45b7-abda-96003c5ccf5a
STATUS:CONFIRMED
ORGANIZER:
DTSTAMP:20260423T055057Z
DTSTART;TZID=America/Denver:20260501T170000
DTEND;TZID=America/Denver:20260501T200000
LOCATION:Center for Visual Art\, 965 Santa Fe Drive\, Denver\, CO 80204
END:VEVENT
END:VCALENDAR