BEGIN:VCALENDAR
METHOD:PUBLISH
VERSION:2.0
CALSCALE:GREGORIAN
PRODID:-//NONSGML WPForms//NONSGML Sugar Calendar Feeds v3.11.0//EN
X-WR-CALNAME:Broadway Rave
X-WR-CALDESC:Front Porch
X-WR-TIMEZONE:America/Denver
BEGIN:VTIMEZONE
TZID:America/Denver
BEGIN:STANDARD
TZOFFSETFROM:-0600
TZOFFSETTO:-0700
DTSTART:20251102T080000
TZNAME:MST
END:STANDARD
BEGIN:DAYLIGHT
TZOFFSETFROM:-0700
TZOFFSETTO:-0600
DTSTART:20260308T090000
TZNAME:MDT
END:DAYLIGHT
END:VTIMEZONE
BEGIN:VTIMEZONE
TZID:America/Denver
BEGIN:STANDARD
TZOFFSETFROM:-0600
TZOFFSETTO:-0700
DTSTART:20251102T080000
TZNAME:MST
END:STANDARD
BEGIN:DAYLIGHT
TZOFFSETFROM:-0700
TZOFFSETTO:-0600
DTSTART:20260308T090000
TZNAME:MDT
END:DAYLIGHT
END:VTIMEZONE
BEGIN:VEVENT
SUMMARY:Broadway Rave
DESCRIPTION:Oh Denver\, have you done your vocal warmups yet?\n\nCalling
  all Musical Theatre nerds\, drama geeks\, actors\, actresses\, theatre 
 lovers\, and more! Welcome to Broadway Rave\, a Broadway Dance Party cel
 ebrating the best in show-tunes and musical theatre. Come sing along to 
 all of your favorite Broadway hits while dressed up as your favorite cha
 racter. We’ll have surprise guests from some of your favorite Broadway
  stars! Live out your Broadway fantasies at Broadway Rave — the most P
 OPULAR Broadway Dance party around.\n\nDon’t be Wicked\, meet us on th
 e dance floor at Marquis on 1 May 2026!
URL;VALUE=URI:https://frontporchne.com/events/broadway-rave/
UID:urn:uuid:f39e3c62-97b3-44e1-b8c2-180dd5b64fa9
STATUS:CONFIRMED
ORGANIZER:
DTSTAMP:20260424T162623Z
DTSTART;TZID=America/Denver:20260501T200000
DTEND;TZID=America/Denver:20260501T220000
LOCATION:Marquis Theater\, 2009 Larimer St\, Denver\, CO 80205
END:VEVENT
END:VCALENDAR