BEGIN:VCALENDAR
METHOD:PUBLISH
VERSION:2.0
CALSCALE:GREGORIAN
PRODID:-//NONSGML WPForms//NONSGML Sugar Calendar Feeds v3.11.0//EN
X-WR-CALNAME:Cinco de Mayo Weekend Bar Crawl 5/2 - DENVER (LoDo)
X-WR-CALDESC:Front Porch
X-WR-TIMEZONE:America/Denver
BEGIN:VTIMEZONE
TZID:America/Denver
BEGIN:STANDARD
TZOFFSETFROM:-0600
TZOFFSETTO:-0700
DTSTART:20251102T080000
TZNAME:MST
END:STANDARD
BEGIN:DAYLIGHT
TZOFFSETFROM:-0700
TZOFFSETTO:-0600
DTSTART:20260308T090000
TZNAME:MDT
END:DAYLIGHT
END:VTIMEZONE
BEGIN:VTIMEZONE
TZID:America/Denver
BEGIN:STANDARD
TZOFFSETFROM:-0600
TZOFFSETTO:-0700
DTSTART:20251102T080000
TZNAME:MST
END:STANDARD
BEGIN:DAYLIGHT
TZOFFSETFROM:-0700
TZOFFSETTO:-0600
DTSTART:20260308T090000
TZNAME:MDT
END:DAYLIGHT
END:VTIMEZONE
BEGIN:VEVENT
SUMMARY:Cinco de Mayo Weekend Bar Crawl 5/2 - DENVER (LoDo)
DESCRIPTION:Kick off Cinco de Mayo weekend with a fun bar crawl full of 
 great drinks and good vibes!\n\nHappy Cinco de Mayo Weekend in Denver - 
 it's time for Fiesta! Our Cinco De Mayo Bar Crawls are always the best p
 arty in town. Discover new places\, meet new friends!\n\n🎟️ ONE tic
 ket gets you access to the LODO DISTRICT and 5+ participating bars.\n\nR
 elax from the daily grind\, enjoy welcome treats and fiesta drink specia
 ls. Grab your friends or come as you are to meet other fun-loving people
 .\n\n🚨 Gather your crew and SAVE 20% on group ticket purchases of 4 o
 r more!\n\n_____\nHOW IT WORKS:\n💃 The Fiesta starts at 4pm at the Ch
 eck-in Venue (no admittance after check-in closes)\n💃 Pick up your ev
 ent wristband\, bar map\, drink specials and full crawl info\n💃 Go on
  to visit any of our participating bars (there is no set schedule)\n💃
  Enjoy the various Drink Specials and Surprises along the way\n💃 Meet
  other fun-loving crawlers and stock up on happiness for the month ahead
 \n\nWHAT YOU'LL GET:\n🔵 Complimentary Welcome Treats at 5 locations o
 f your choice (max. 1 per location)\n🔵 Exclusive Drink Specials\n🔵
  Free cover (where applicable) to all participating venues until event e
 nds\n🔵 Free Fun - Stock up on happiness for the month ahead!\n\n_____
 \nCHECK-IN LOCATION (Mandatory from 4pm - 6pm):\n📍 Society Sports &am
 p\; Spirits - 1434 Blake St\, Denver\, CO\n✅ After you check-in\, you 
 can go visit any of our participating bars as you please. There are mult
 iple ways to get around town and from bar to bar. (Walk\, Uber\, Lyft\, 
 etc.)\n\nFor the most up to date bar participation please visit our tick
 et page: https://www.eventbrite.com/e/cinco-de-mayo-weekend-bar-crawl-52
 -denver-lodo-tickets-1987448392643?aff=odcleoeventsincollection
URL;VALUE=URI:https://frontporchne.com/events/cinco-de-mayo-weekend-bar-
 crawl-5-2-denver-lodo/
UID:urn:uuid:62917c37-b056-4e1a-aca9-06108850e4b7
STATUS:CONFIRMED
ORGANIZER:
DTSTAMP:20260425T014524Z
DTSTART;TZID=America/Denver:20260502T160000
DTEND;TZID=America/Denver:20260502T233000
LOCATION:Society Sports and Spirits 1434 Blake Street Denver\, CO 8020
 2
END:VEVENT
END:VCALENDAR