BEGIN:VCALENDAR
METHOD:PUBLISH
VERSION:2.0
CALSCALE:GREGORIAN
PRODID:-//NONSGML WPForms//NONSGML Sugar Calendar Feeds v3.11.0//EN
X-WR-CALNAME:Dan Mintz (Voice of Tina from Bob's Burgers\, HBO) Live at 
 Denver Comedy Underground! Plus Free Pizza!
X-WR-CALDESC:Front Porch
X-WR-TIMEZONE:America/Denver
BEGIN:VTIMEZONE
TZID:America/Denver
BEGIN:STANDARD
TZOFFSETFROM:-0600
TZOFFSETTO:-0700
DTSTART:20251102T080000
TZNAME:MST
END:STANDARD
BEGIN:DAYLIGHT
TZOFFSETFROM:-0700
TZOFFSETTO:-0600
DTSTART:20260308T090000
TZNAME:MDT
END:DAYLIGHT
END:VTIMEZONE
BEGIN:VTIMEZONE
TZID:America/Denver
BEGIN:STANDARD
TZOFFSETFROM:-0600
TZOFFSETTO:-0700
DTSTART:20251102T080000
TZNAME:MST
END:STANDARD
BEGIN:DAYLIGHT
TZOFFSETFROM:-0700
TZOFFSETTO:-0600
DTSTART:20260308T090000
TZNAME:MDT
END:DAYLIGHT
END:VTIMEZONE
BEGIN:VEVENT
SUMMARY:Dan Mintz (Voice of Tina from Bob's Burgers\, HBO) Live at Denve
 r Comedy Underground! Plus Free Pizza!
DESCRIPTION:A Comedy Show Unlike Any Other Dan Mintz’s stand-up comedy
  is instantly recognizable—calm\, deliberate\, and packed with perfect
 ly timed punchlines. His offbeat perspective and dry delivery create a c
 omedy show experience that builds slowly and hits hard\, keeping audienc
 es laughing from start to finish. Whether you know him from television\,
  writing\, or viral clips\, seeing Dan live is a completely different ex
 perience. This is a comedy show designed for fans of clever\, character-
 driven humor and anyone who appreciates stand-up that breaks the mold. A
  Must-See Comedy Show for Fans of Smart Comedy This comedy show is perfe
 ct for: Fans of Bob’s Burgers Lovers of dry\, deadpan stand-up comedy 
 Anyone searching for a standout comedy show in Denver Dan Mintz has writ
 ten for hit TV shows and performed stand-up across the country\, earning
  a reputation as one of the most original voices in comedy. Experience T
 his Comedy Show at Denver Comedy Underground Denver Comedy Underground i
 s one of the best places to see a live comedy show in Denver\, known for
  its intimate setting and high-quality lineups. This close-up venue make
 s every comedy show feel personal\, immersive\, and unforgettable. If yo
 u’re searching for: Comedy show Denver Live stand-up comedy near me Be
 st comedy club in Denver This is the comedy show you don’t want to mis
 s. Get Tickets for This Comedy Show Comedy shows featuring nationally re
 cognized comedians like Dan Mintz sell quickly. Secure your tickets now 
 and experience a comedy show that delivers big laughs in an intimate set
 ting.
URL;VALUE=URI:https://frontporchne.com/events/dan-mintz-voice-of-tina-fr
 om-bobs-burgers-hbo-live-at-denver-comedy-underground-plus-free-pizza/
UID:urn:uuid:8bc62abb-00eb-4ffc-84f1-078b943f9cee
STATUS:CONFIRMED
ORGANIZER:
DTSTAMP:20260423T043020Z
DTSTART;TZID=America/Denver:20260331T000000
DTEND;TZID=America/Denver:20260418T233000
LOCATION:Denver Comedy Underground 675 22nd Street Denver CO 80205
END:VEVENT
END:VCALENDAR