BEGIN:VCALENDAR
METHOD:PUBLISH
VERSION:2.0
CALSCALE:GREGORIAN
PRODID:-//NONSGML WPForms//NONSGML Sugar Calendar Feeds v3.11.0//EN
X-WR-CALNAME:Dogs In A Pile
X-WR-CALDESC:Front Porch
X-WR-TIMEZONE:America/Denver
BEGIN:VTIMEZONE
TZID:America/Denver
BEGIN:DAYLIGHT
TZOFFSETFROM:-0700
TZOFFSETTO:-0600
DTSTART:20260308T090000
TZNAME:MDT
END:DAYLIGHT
END:VTIMEZONE
BEGIN:VTIMEZONE
TZID:America/Denver
BEGIN:DAYLIGHT
TZOFFSETFROM:-0700
TZOFFSETTO:-0600
DTSTART:20260308T090000
TZNAME:MDT
END:DAYLIGHT
END:VTIMEZONE
BEGIN:VEVENT
SUMMARY:Dogs In A Pile
DESCRIPTION:Dogs In A Pile\nJuly 25 at 7:30 pm\n\nOUTDOOR AMPHITHEATRE\n
 \nLawn tickets: $37. Tickets under the cover start at $50.
URL;VALUE=URI:https://frontporchne.com/events/dogs-in-a-pile/
UID:urn:uuid:76e1d0dd-3f22-43d7-968b-89985cd23e29
STATUS:CONFIRMED
ORGANIZER:
DTSTAMP:20260424T162736Z
DTSTART;TZID=America/Denver:20260725T193000
DTEND;TZID=America/Denver:20260725T210000
LOCATION:Arvada Center 6901 Wadsworth Blvd. Arvada\, CO 80003
END:VEVENT
END:VCALENDAR