BEGIN:VCALENDAR
METHOD:PUBLISH
VERSION:2.0
CALSCALE:GREGORIAN
PRODID:-//NONSGML WPForms//NONSGML Sugar Calendar Feeds v3.11.0//EN
X-WR-CALNAME:English
X-WR-CALDESC:Front Porch
X-WR-TIMEZONE:America/Denver
BEGIN:VTIMEZONE
TZID:America/Denver
BEGIN:STANDARD
TZOFFSETFROM:-0600
TZOFFSETTO:-0700
DTSTART:20251102T080000
TZNAME:MST
END:STANDARD
BEGIN:DAYLIGHT
TZOFFSETFROM:-0700
TZOFFSETTO:-0600
DTSTART:20260308T090000
TZNAME:MDT
END:DAYLIGHT
END:VTIMEZONE
BEGIN:VTIMEZONE
TZID:America/Denver
BEGIN:STANDARD
TZOFFSETFROM:-0600
TZOFFSETTO:-0700
DTSTART:20251102T080000
TZNAME:MST
END:STANDARD
BEGIN:DAYLIGHT
TZOFFSETFROM:-0700
TZOFFSETTO:-0600
DTSTART:20260308T090000
TZNAME:MDT
END:DAYLIGHT
END:VTIMEZONE
BEGIN:VEVENT
SUMMARY:English
DESCRIPTION:“English Only.” This one rule governs language instructo
 r Marjan’s classroom\, where she teaches four adult students outside o
 f Tehran. Together\, they leapfrog through a linguistic playground\, cha
 sing fluency through a maze of word games\, listening exercises\, and sh
 ow-and-tell sessions. They hope that one day English will make them whol
 e. But it might be splitting each of them in half.\n\nSanaz Toossi’s P
 ulitzer Prize-winning English is a disarmingly funny and tender play abo
 ut the foibles of language and miscommunication. Make sure you’re mark
 ed as “present” for a work Variety calls “undeniably one of the be
 st plays of the decade\,” when it makes its Denver debut in spring 202
 6.
URL;VALUE=URI:https://frontporchne.com/events/english/
UID:urn:uuid:4ca28c2a-0d89-4f3f-b6fc-af0683a24dc7
STATUS:CONFIRMED
ORGANIZER:
DTSTAMP:20260423T072635Z
DTSTART;TZID=America/Denver:20260417T190000
DTEND;TZID=America/Denver:20260531T220000
LOCATION:1400 Curtis Street
END:VEVENT
END:VCALENDAR