BEGIN:VCALENDAR
METHOD:PUBLISH
VERSION:2.0
CALSCALE:GREGORIAN
PRODID:-//NONSGML WPForms//NONSGML Sugar Calendar Feeds v3.11.0//EN
X-WR-CALNAME:Grand Finale &amp\; Memorial Day Weekend Concert at Macky A
 uditorium
X-WR-CALDESC:Front Porch
X-WR-TIMEZONE:America/Denver
BEGIN:VTIMEZONE
TZID:America/Denver
BEGIN:DAYLIGHT
TZOFFSETFROM:-0700
TZOFFSETTO:-0600
DTSTART:20260308T090000
TZNAME:MDT
END:DAYLIGHT
END:VTIMEZONE
BEGIN:VTIMEZONE
TZID:America/Denver
BEGIN:DAYLIGHT
TZOFFSETFROM:-0700
TZOFFSETTO:-0600
DTSTART:20260308T090000
TZNAME:MDT
END:DAYLIGHT
END:VTIMEZONE
BEGIN:VEVENT
SUMMARY:Grand Finale & Memorial Day Weekend Concert at Macky Auditorium
DESCRIPTION:The Boulder Chamber Orchestra returns to the breathtaking Co
 ncert Hall of Macky Auditorium for a special performance in honor of Bou
 lder’s Memorial Day weekend festivities. This concert marks the grand 
 finale of our 2025–2026 Season—a culminating evening that brings tog
 ether music\, community\, and reflection in one of Colorado’s most ico
 nic venues. Whether you are a longtime supporter or joining us for the f
 irst time\, this unforgettable evening invites all to share in the joy o
 f live music and the vibrancy of Boulder’s cultural life.
URL;VALUE=URI:https://frontporchne.com/events/grand-finale-memorial-day-
 weekend-concert-at-macky-auditorium/
UID:urn:uuid:07e30917-d87e-4406-aa91-9a45f349938b
STATUS:CONFIRMED
ORGANIZER:
DTSTAMP:20260423T150023Z
DTSTART;TZID=America/Denver:20260523T234500
DTEND;TZID=America/Denver:20260523T234500
LOCATION:Macky Auditorium Concert Hall\n1595 Pleasant St\nBoulder\, CO 8
 0309
END:VEVENT
END:VCALENDAR