BEGIN:VCALENDAR
METHOD:PUBLISH
VERSION:2.0
CALSCALE:GREGORIAN
PRODID:-//NONSGML WPForms//NONSGML Sugar Calendar Feeds v3.11.0//EN
X-WR-CALNAME:Hell's Kitchen
X-WR-CALDESC:Front Porch
X-WR-TIMEZONE:America/Denver
BEGIN:VTIMEZONE
TZID:America/Denver
BEGIN:STANDARD
TZOFFSETFROM:-0600
TZOFFSETTO:-0700
DTSTART:20251102T080000
TZNAME:MST
END:STANDARD
BEGIN:DAYLIGHT
TZOFFSETFROM:-0700
TZOFFSETTO:-0600
DTSTART:20260308T090000
TZNAME:MDT
END:DAYLIGHT
END:VTIMEZONE
BEGIN:VTIMEZONE
TZID:America/Denver
BEGIN:STANDARD
TZOFFSETFROM:-0600
TZOFFSETTO:-0700
DTSTART:20251102T080000
TZNAME:MST
END:STANDARD
BEGIN:DAYLIGHT
TZOFFSETFROM:-0700
TZOFFSETTO:-0600
DTSTART:20260308T090000
TZNAME:MDT
END:DAYLIGHT
END:VTIMEZONE
BEGIN:VEVENT
SUMMARY:Hell's Kitchen
DESCRIPTION:Playing Apr 14-26\; performance times vary. Ali is a 17-year
 -old girl full of fire – searching for freedom\, passion and her place
  in the world. How she finds them is a New York City coming-of-age story
  you’ve never felt before – HELL’S KITCHEN\, a new musical from 17
 -time Grammy® Award winner Alicia Keys\, whose new songs and greatest h
 its about growing up in NY inspire a story made for Broadway.
URL;VALUE=URI:https://frontporchne.com/events/hells-kitchen/
UID:urn:uuid:7ab65192-7f41-4878-ae41-e35690d0d982
STATUS:CONFIRMED
ORGANIZER:
DTSTAMP:20260423T072921Z
DTSTART;TZID=America/Denver:20260414T193000
DTEND;TZID=America/Denver:20260426T183000
LOCATION:Buell Theatre\n14th & Curtis in downtown Denver
END:VEVENT
END:VCALENDAR