BEGIN:VCALENDAR
METHOD:PUBLISH
VERSION:2.0
CALSCALE:GREGORIAN
PRODID:-//NONSGML WPForms//NONSGML Sugar Calendar Feeds v3.11.0//EN
X-WR-CALNAME:Interactive Artists Art Show Opening Reception
X-WR-CALDESC:Front Porch
X-WR-TIMEZONE:America/Denver
BEGIN:VTIMEZONE
TZID:America/Denver
BEGIN:STANDARD
TZOFFSETFROM:-0600
TZOFFSETTO:-0700
DTSTART:20251102T080000
TZNAME:MST
END:STANDARD
BEGIN:DAYLIGHT
TZOFFSETFROM:-0700
TZOFFSETTO:-0600
DTSTART:20260308T090000
TZNAME:MDT
END:DAYLIGHT
END:VTIMEZONE
BEGIN:VTIMEZONE
TZID:America/Denver
BEGIN:STANDARD
TZOFFSETFROM:-0600
TZOFFSETTO:-0700
DTSTART:20251102T080000
TZNAME:MST
END:STANDARD
BEGIN:DAYLIGHT
TZOFFSETFROM:-0700
TZOFFSETTO:-0600
DTSTART:20260308T090000
TZNAME:MDT
END:DAYLIGHT
END:VTIMEZONE
BEGIN:VEVENT
SUMMARY:Interactive Artists Art Show Opening Reception
DESCRIPTION:The Interactive Artists Group Annual Art Show at the Mizel A
 rts and Culture Center will open with a reception on Thursday\, April 23
  at 5:30 p.m. in the Mizel Gallery and Lobby. The exhibition features wo
 rk from seven local artists who participate in the center’s Interactiv
 e Artists Group painting class. The exhibition runs from April 3 through
  May 5\, and is open during regular business hours. Admission to the eve
 nts and to the gallery is free. All artwork will be available for purcha
 se.
URL;VALUE=URI:https://frontporchne.com/events/interactive-artists-art-sh
 ow-opening-reception/
UID:urn:uuid:e38b81d7-e259-40d4-8ac3-1f41fef65910
STATUS:CONFIRMED
ORGANIZER:
DTSTAMP:20260423T072753Z
DTSTART;TZID=America/Denver:20260423T173000
DTEND;TZID=America/Denver:20260423T200000
LOCATION:Mizel Arts and Culture Center\n350 S. Dahlia St.\nDenver\, CO 8
 0246
END:VEVENT
END:VCALENDAR