BEGIN:VCALENDAR
METHOD:PUBLISH
VERSION:2.0
CALSCALE:GREGORIAN
PRODID:-//NONSGML WPForms//NONSGML Sugar Calendar Feeds v3.11.0//EN
X-WR-CALNAME:Interactive Workshop: Writing Spicy Scenes
X-WR-CALDESC:Front Porch
X-WR-TIMEZONE:America/Denver
BEGIN:VTIMEZONE
TZID:America/Denver
BEGIN:DAYLIGHT
TZOFFSETFROM:-0700
TZOFFSETTO:-0600
DTSTART:20260308T090000
TZNAME:MDT
END:DAYLIGHT
END:VTIMEZONE
BEGIN:VTIMEZONE
TZID:America/Denver
BEGIN:DAYLIGHT
TZOFFSETFROM:-0700
TZOFFSETTO:-0600
DTSTART:20260308T090000
TZNAME:MDT
END:DAYLIGHT
END:VTIMEZONE
BEGIN:VEVENT
SUMMARY:Interactive Workshop: Writing Spicy Scenes
DESCRIPTION:Calling all romance writers\, readers\, and anyone who has e
 ver cringed at the word "member" while reading a smutty scene!\nJoin us 
 at Fiction Beer Company for an interactive writing workshop on May 17th 
 from 2-4pm about all things spice! We'll talk about what sets a good spi
 cy scene apart from a great one\, how to write your own in a way that st
 ands out from the crowd\, and set the record straight once and for all a
 bout which words to pick—and which ones give us the ick.
URL;VALUE=URI:https://frontporchne.com/events/interactive-workshop-writi
 ng-spicy-scenes/
UID:urn:uuid:c9f9e723-d6dd-4c05-9017-e97752f0d858
STATUS:CONFIRMED
ORGANIZER:
DTSTAMP:20260424T041535Z
DTSTART;TZID=America/Denver:20260517T140000
DTEND;TZID=America/Denver:20260517T160000
LOCATION:Fiction Beer Company\n7101 East Colfax Avenue
END:VEVENT
END:VCALENDAR