BEGIN:VCALENDAR
METHOD:PUBLISH
VERSION:2.0
CALSCALE:GREGORIAN
PRODID:-//NONSGML WPForms//NONSGML Sugar Calendar Feeds v3.11.0//EN
X-WR-CALNAME:Lady Nomada Central Park Cinco de Mayo
X-WR-CALDESC:Front Porch
X-WR-TIMEZONE:America/Denver
BEGIN:VTIMEZONE
TZID:America/Denver
BEGIN:DAYLIGHT
TZOFFSETFROM:-0700
TZOFFSETTO:-0600
DTSTART:20260308T090000
TZNAME:MDT
END:DAYLIGHT
END:VTIMEZONE
BEGIN:VTIMEZONE
TZID:America/Denver
BEGIN:DAYLIGHT
TZOFFSETFROM:-0700
TZOFFSETTO:-0600
DTSTART:20260308T090000
TZNAME:MDT
END:DAYLIGHT
END:VTIMEZONE
BEGIN:VEVENT
SUMMARY:Lady Nomada Central Park Cinco de Mayo
DESCRIPTION:Celebrate Cinco de Mayo (on Taco Tuesday!) at Lady Nomada\n\
 nCinco de Mayo lands on Taco Tuesday this year\, and Lady Nomada is brin
 ging the party with margaritas\, tacos\, and festive happy hour specials
  across the Denver metro.\n\nExpect Baja-inspired bites\, shareable cock
 tails\, and house margaritas made with Marisol Tequila—perfect for eve
 rything from group outings to casual neighborhood hangs.\n\n🌮 Lady No
 mada\n\nHappy Hour: Mon–Fri\, 2–5 p.m.\n\nMargaritas from $6\nParty 
 pitchers + “Shot-o-Pus” for groups\n$6 bites like nachos\, queso\, a
 nd mini chile rellenos\n\nLocations:\nLady Nomada Belmar\nLady Nomada Ol
 de Town Arvada\nLady Nomada Central Park
URL;VALUE=URI:https://frontporchne.com/events/lady-nomada-central-park-c
 inco-de-mayo/
UID:urn:uuid:a1a48708-7798-4c80-82be-809af4b10e5c
STATUS:CONFIRMED
ORGANIZER:
DTSTAMP:20260424T041755Z
DTSTART;TZID=America/Denver:20260505T140000
DTEND;TZID=America/Denver:20260505T210000
LOCATION:Central Park 7301 E 29th Ave\, Denver\, CO 80238
END:VEVENT
END:VCALENDAR