BEGIN:VCALENDAR
METHOD:PUBLISH
VERSION:2.0
CALSCALE:GREGORIAN
PRODID:-//NONSGML WPForms//NONSGML Sugar Calendar Feeds v3.11.0//EN
X-WR-CALNAME:Lamont Opera Theatre presents “Die Fledermaus”
X-WR-CALDESC:Front Porch
X-WR-TIMEZONE:America/Denver
BEGIN:VTIMEZONE
TZID:America/Denver
BEGIN:STANDARD
TZOFFSETFROM:-0600
TZOFFSETTO:-0700
DTSTART:20251102T080000
TZNAME:MST
END:STANDARD
BEGIN:DAYLIGHT
TZOFFSETFROM:-0700
TZOFFSETTO:-0600
DTSTART:20260308T090000
TZNAME:MDT
END:DAYLIGHT
END:VTIMEZONE
BEGIN:VTIMEZONE
TZID:America/Denver
BEGIN:STANDARD
TZOFFSETFROM:-0600
TZOFFSETTO:-0700
DTSTART:20251102T080000
TZNAME:MST
END:STANDARD
BEGIN:DAYLIGHT
TZOFFSETFROM:-0700
TZOFFSETTO:-0600
DTSTART:20260308T090000
TZNAME:MDT
END:DAYLIGHT
END:VTIMEZONE
BEGIN:VEVENT
SUMMARY:Lamont Opera Theatre presents “Die Fledermaus”
DESCRIPTION:Lamont Opera Theatre and the Lamont Symphony Orchestra prese
 nt the sparkling wit and glamour of Johann Strauss II’s Die Fledermaus
 . Conducted by Lawrence Golan and directed by Matthew Plenk\, this belov
 ed operetta is filled with sweeping melodies\, mistaken identities\, and
  champagne-fueled mischief. Sung in German with spoken dialogue in Engli
 sh\, Die Fledermaus promises an evening of charm\, laughter\, and unforg
 ettable music. Don’t miss this dazzling highlight of Lamont’s spring
  season.
URL;VALUE=URI:https://frontporchne.com/events/lamont-opera-theatre-prese
 nts-die-fledermaus/
UID:urn:uuid:a76d9984-d1ee-4912-9a44-c3ad9814973e
STATUS:CONFIRMED
ORGANIZER:
DTSTAMP:20260423T072900Z
DTSTART;TZID=America/Denver:20260423T193000
DTEND;TZID=America/Denver:20260423T213000
LOCATION:Newman Center for the Performing Arts\, Gates Concert Hall\n234
 4 E Iliff Ave.\nDenver\, CO \n80210
END:VEVENT
END:VCALENDAR