BEGIN:VCALENDAR
METHOD:PUBLISH
VERSION:2.0
CALSCALE:GREGORIAN
PRODID:-//NONSGML WPForms//NONSGML Sugar Calendar Feeds v3.11.0//EN
X-WR-CALNAME:Live @ The Rose - Kara Grainger and the Michael Hornbuckle 
 Band
X-WR-CALDESC:Front Porch
X-WR-TIMEZONE:America/Denver
BEGIN:VTIMEZONE
TZID:America/Denver
BEGIN:DAYLIGHT
TZOFFSETFROM:-0700
TZOFFSETTO:-0600
DTSTART:20260308T090000
TZNAME:MDT
END:DAYLIGHT
END:VTIMEZONE
BEGIN:VTIMEZONE
TZID:America/Denver
BEGIN:DAYLIGHT
TZOFFSETFROM:-0700
TZOFFSETTO:-0600
DTSTART:20260308T090000
TZNAME:MDT
END:DAYLIGHT
END:VTIMEZONE
BEGIN:VEVENT
SUMMARY:Live @ The Rose - Kara Grainger and the Michael Hornbuckle Band
DESCRIPTION:Celebrate Memorial Day Blues Fest Weekend in style as Kara G
 rainger along with The Michael Hornbuckle Band take the stage at the Buf
 falo Rose to kick off an unforgettable night of masterclass blues.\n\nKa
 ra Grainger\, delivers powerhouse vocals and masterful slide guitar\, bl
 ending blues\, roots\, and Americana. From Sydney beginnings to global s
 tages\, she’s released acclaimed albums and performed alongside legend
 s like Peter Frampton and Buddy Guy\, captivating audiences worldwide wi
 th soulful songwriting and electrifying live shows.\n\nMichael Hornbuckl
 e\, a Denver native carrying forward a legendary blues legacy\, delivers
  soulful guitar work and powerful songwriting shaped by decades of touri
 ng and acclaimed releases.\n\nTogether\, these standout acts promise a h
 igh-energy night of authentic blues\, heartfelt originals\, and crowd-mo
 ving grooves\, making this Memorial Day celebration one you won’t want
  to miss.\n\n7:00pm Michael Hornbuckle Band\nBorn and raised in Denver\,
  Michael Hornbuckle is the son of legendary bluesman Bobby Hornbuckle an
 d carries on his musical legacy. He began playing drums for his father a
 t 13 and\, after Bobby’s passing\, continued with his brother Brian. T
 heir 1998 debut Pass the Torch blended blues and rock with heartfelt ori
 ginals. Michael later toured nationally\, released acoustic and studio a
 lbums\, and refined his songwriting voice. Collaborations with producer 
 Alex “Ace” Baker elevated his sound\, while festival performances an
 d awards\,including honors from the Mile High Blues Society\, cemented h
 is reputation as a leading force in Colorado’s blues-rock scene.\n\n8:
 50pm Kara Grainger\nKara Grainger is a powerhouse vocalist and slide gui
 tarist whose soulful\, gritty sound blends blues\, roots\, and Americana
 . Raised in suburban Sydney\, she began performing at 16 with her brothe
 r in Papa Lips\, touring Australia and gaining national airplay. Her hea
 rtfelt songwriting and electrifying performances continue to captivate a
 udiences worldwide.
URL;VALUE=URI:https://frontporchne.com/events/live-the-rose-kara-grainge
 r-and-the-michael-hornbuckle-band/
UID:urn:uuid:61877fe4-c182-460b-9b08-8cdb7bca36b0
STATUS:CONFIRMED
ORGANIZER:
DTSTAMP:20260425T040324Z
DTSTART;TZID=America/Denver:20260522T190000
DTEND;TZID=America/Denver:20260522T230000
LOCATION:Buffalo Rose 1119 Washington Avenue Golden\, CO 80401
END:VEVENT
END:VCALENDAR