BEGIN:VCALENDAR
METHOD:PUBLISH
VERSION:2.0
CALSCALE:GREGORIAN
PRODID:-//NONSGML WPForms//NONSGML Sugar Calendar Feeds v3.11.0//EN
X-WR-CALNAME:Live @ The Rose - Ninety2K &amp\; Nothing But Nineties
X-WR-CALDESC:Front Porch
X-WR-TIMEZONE:America/Denver
BEGIN:VTIMEZONE
TZID:America/Denver
BEGIN:STANDARD
TZOFFSETFROM:-0600
TZOFFSETTO:-0700
DTSTART:20251102T080000
TZNAME:MST
END:STANDARD
BEGIN:DAYLIGHT
TZOFFSETFROM:-0700
TZOFFSETTO:-0600
DTSTART:20260308T090000
TZNAME:MDT
END:DAYLIGHT
END:VTIMEZONE
BEGIN:VTIMEZONE
TZID:America/Denver
BEGIN:STANDARD
TZOFFSETFROM:-0600
TZOFFSETTO:-0700
DTSTART:20251102T080000
TZNAME:MST
END:STANDARD
BEGIN:DAYLIGHT
TZOFFSETFROM:-0700
TZOFFSETTO:-0600
DTSTART:20260308T090000
TZNAME:MDT
END:DAYLIGHT
END:VTIMEZONE
BEGIN:VEVENT
SUMMARY:Live @ The Rose - Ninety2K &amp\; Nothing But Nineties
DESCRIPTION:Two decades. One stage. Endless nostalgia. Get ready for the
  ultimate throwback throwdown as the 90s and 00s collide in an epic live
  music battle! Nothing But Nineties brings the sounds of dial-up interne
 t\, flannel\, and pop domination with hits from Backstreet Boys\, Spice 
 Girls\, Nirvana\, 2Pac\, and more. Then Ninety2K fires back with the era
  of MP3s\, MySpace\, and pop-punk anthems\, performing My Chemical Roman
 ce\, Fall Out Boy\, Sum 41\, and beyond. Grunge or emo? Boy bands or pop
 -punk? Dress your decade\, sing it loud\, and help decide the winner in 
 this nostalgia-fueled showdown you wonâ€™t forget.\n\nNothing But Nineti
 es 7:00 pm\nNothing But Nineties is Coloradoâ€™s ultimate 90s tribute ba
 nd\, slinging pure nostalgia with a wink and a grin. From throwback outf
 its to sharp pop-culture jabs\, they transport audiences straight back t
 o the era of portable CD players and dial-up dreams. The band rips throu
 gh every corner of the decadeâ€”grunge anthems\, boy-band bangers\, hip-
 hop classics\, and unforgettable TV themesâ€”delivering a nonstop\, sing
 -along party. More than a concert\, itâ€™s a full-immersion time warp th
 at turns crowds into instant superfans. If you crave the sound\, style\,
  and attitude of the 90s\, Nothing But Nineties delivers it loud. Every 
 show feels like a reunion.\n\nNinety2K 8:50 pm\nNinety2K brings explosiv
 e nostalgia to every stage with high-energy performances of the best 90â
 €™s &amp\; 2000â€™s rock\, alternative\, pop\, and R&amp\;B. Based in Ni
 nety2K delivers explosive nostalgia with high-energy performances celebr
 ating the best of 90â€™s and 2000â€™s rock\, alternative\, pop\, and R&a
 mp\;B. Based in Colorado\, this dynamic band captivates audiences from D
 enver to Highlands Ranch and beyond with unforgettable live shows that b
 lend crowd-favorite hits\, vibrant originals\, and creative arrangements
 . Perfect for fans of the era and new listeners alike\, Ninety2K brings 
 feel-good vibes\, nonstop energy\, and pure throwback fun to every show.
URL;VALUE=URI:https://frontporchne.com/events/live-the-rose-ninety2k-not
 hing-but-nineties/
UID:urn:uuid:5648636e-bd4e-4fd1-b310-60dcd9f32bac
STATUS:CONFIRMED
ORGANIZER:
DTSTAMP:20260424T164612Z
DTSTART;TZID=America/Denver:20260403T190000
DTEND;TZID=America/Denver:20260403T230000
LOCATION:Buffalo RoseÂ 1119 Washington AvenueÂ Golden\, CO 80401
END:VEVENT
END:VCALENDAR