BEGIN:VCALENDAR
METHOD:PUBLISH
VERSION:2.0
CALSCALE:GREGORIAN
PRODID:-//NONSGML WPForms//NONSGML Sugar Calendar Feeds v3.11.0//EN
X-WR-CALNAME:Live @ The Rose - Sunday Swing
X-WR-CALDESC:Front Porch
X-WR-TIMEZONE:America/Denver
BEGIN:VTIMEZONE
TZID:America/Denver
BEGIN:DAYLIGHT
TZOFFSETFROM:-0700
TZOFFSETTO:-0600
DTSTART:20260308T090000
TZNAME:MDT
END:DAYLIGHT
END:VTIMEZONE
BEGIN:VTIMEZONE
TZID:America/Denver
BEGIN:DAYLIGHT
TZOFFSETFROM:-0700
TZOFFSETTO:-0600
DTSTART:20260308T090000
TZNAME:MDT
END:DAYLIGHT
END:VTIMEZONE
BEGIN:VEVENT
SUMMARY:Live @ The Rose - Sunday Swing
DESCRIPTION:Sunday Swing at Buffalo Rose!\nDoors Open: Dance Lessons 4pm
  to 5pm\nFlatirons Jazz Orchestra 5:00 pm\n\nStep into the golden age of
  swing this Sunday at Buffalo Rose! Join us for Sunday Swing with The Fl
 atirons Jazz Big Band\, bringing you the irresistible sound of classic b
 ig-band jazz all night long.\n\nA special evening for fans of big band a
 nd swing dancing at the historical Buffalo Rose in downtown Golden. Door
 s open and delicious food service starts at 4:00. Learn to swing dance w
 ith a free dance lesson 4:00-5:00! Then enjoy entertaining live BIG BAND
  JAZZ MUSIC from 5:00 to 7:30 by the Flatirons Jazz Orchestra – featur
 ing Deborah Stafford\, rated “Best Big Band in Denver” by CBS Local\
 , FJO is a traditional 18-piece big band. Dance or just enjoy the great 
 Swing Era music of Count Basie\, Duke Ellington\, Benny Goodman and more
  played on one of Colorado great historic stages. All ages welcome.\n\n-
  Swing Dance Lessons kick off the evening—perfect for beginners and se
 asoned dancers alike.\n- Live Music &amp\; Swing Dancing follow\, with T
 he Flatirons Jazz Big Band keeping the floor jumping!\n- Grab your danci
 ng shoes\, bring your friends\, and get ready for a high-energy night of
  rhythm\, style\, and swing. See you on the dance floor!
URL;VALUE=URI:https://frontporchne.com/events/live-the-rose-sunday-swing
 -12/
UID:urn:uuid:82ef77c0-3335-4520-8191-befe751b9e02
STATUS:CONFIRMED
ORGANIZER:
DTSTAMP:20260424T072227Z
DTSTART;TZID=America/Denver:20260510T160000
DTEND;TZID=America/Denver:20260510T193000
LOCATION:Buffalo Rose 1119 Washington Avenue Golden\, CO 80401
END:VEVENT
END:VCALENDAR