BEGIN:VCALENDAR
METHOD:PUBLISH
VERSION:2.0
CALSCALE:GREGORIAN
PRODID:-//NONSGML WPForms//NONSGML Sugar Calendar Feeds v3.11.0//EN
X-WR-CALNAME:Making History\, Making Change in Collaboration with The Sm
 ithsonian
X-WR-CALDESC:Front Porch
X-WR-TIMEZONE:America/Denver
BEGIN:VTIMEZONE
TZID:America/Denver
BEGIN:STANDARD
TZOFFSETFROM:-0600
TZOFFSETTO:-0700
DTSTART:20251102T080000
TZNAME:MST
END:STANDARD
BEGIN:DAYLIGHT
TZOFFSETFROM:-0700
TZOFFSETTO:-0600
DTSTART:20260308T090000
TZNAME:MDT
END:DAYLIGHT
END:VTIMEZONE
BEGIN:VTIMEZONE
TZID:America/Denver
BEGIN:STANDARD
TZOFFSETFROM:-0600
TZOFFSETTO:-0700
DTSTART:20251102T080000
TZNAME:MST
END:STANDARD
BEGIN:DAYLIGHT
TZOFFSETFROM:-0700
TZOFFSETTO:-0600
DTSTART:20260308T090000
TZNAME:MDT
END:DAYLIGHT
END:VTIMEZONE
BEGIN:VEVENT
SUMMARY:Making History\, Making Change in Collaboration with The Smithso
 nian
DESCRIPTION:Join us for a special lecture from the Smithsonian’s Makin
 g History\, Making Change Lecture Series right here in Colorado. The spe
 cific speaker\, a Smithsonian curator\, scientist\, educator\, historian
 \, or other expert\, will be announced soon! The Making History\, Making
  Change Lecture Series is a significant part of the Smithsonian's nation
 al programming in 2026 to commemorate the 250th anniversary of the signi
 ng of the Declaration of Independence. The Smithsonian and 25 Affiliates
  across the country (including History Colorado) will collaborate to cel
 ebrate\, explore\, and commemorate this milestone while illuminating nat
 ional and regional stories and their contributions to our nation’s his
 tory.\n\nThis lecture is part of the 2025-2026 Rosenberry Lecture Series
 . Purchase tickets to multiple lectures in the series here.\n\nAbout the
  Making History\, Making Change Lecture Series\n\nEach Making History\, 
 Making Change Lecture will feature a Smithsonian curator\, scientist\, e
 ducator\, historian\, or other expert who explores the 250th anniversary
  of the nation through the lens of their work. Speakers will be drawn fr
 om across Smithsonian museums and research centers\, bringing interdisci
 plinary perspectives and diverse views to celebrate accomplishments and 
 to reflect on the ideals laid out at the founding of the nation - how th
 ey have evolved and continue - and what it means to be American today. B
 eyond a specific date in history\, the 250th anniversary offers an oppor
 tunity for Smithsonian Affiliates to explore the full breadth of the Ame
 rican story – the people\, the moments\, the ideals who have made hist
 ory and affected change in the continually unfolding story of the Americ
 an experience.​\n\nA hearing loop assistive listening system is availa
 ble for this program to assist guests with hearing loss. Please see our 
 accessibility information for more details.
URL;VALUE=URI:https://frontporchne.com/events/making-history-making-chan
 ge-in-collaboration-with-the-smithsonian-2/
UID:urn:uuid:21ea83a5-23e0-4ddf-9079-ec52288f6b1d
STATUS:CONFIRMED
ORGANIZER:
DTSTAMP:20260425T190038Z
DTSTART;TZID=America/Denver:20260318T190000
DTEND;TZID=America/Denver:20260318T210000
LOCATION:History Colorado Center\n1200 North Broadway\nDenver\, Colorado
  United States
END:VEVENT
END:VCALENDAR