BEGIN:VCALENDAR
METHOD:PUBLISH
VERSION:2.0
CALSCALE:GREGORIAN
PRODID:-//NONSGML WPForms//NONSGML Sugar Calendar Feeds v3.11.0//EN
X-WR-CALNAME:Next to Normal
X-WR-CALDESC:Front Porch
X-WR-TIMEZONE:America/Denver
BEGIN:VTIMEZONE
TZID:America/Denver
BEGIN:STANDARD
TZOFFSETFROM:-0600
TZOFFSETTO:-0700
DTSTART:20251102T080000
TZNAME:MST
END:STANDARD
BEGIN:DAYLIGHT
TZOFFSETFROM:-0700
TZOFFSETTO:-0600
DTSTART:20260308T090000
TZNAME:MDT
END:DAYLIGHT
END:VTIMEZONE
BEGIN:VTIMEZONE
TZID:America/Denver
BEGIN:STANDARD
TZOFFSETFROM:-0600
TZOFFSETTO:-0700
DTSTART:20251102T080000
TZNAME:MST
END:STANDARD
BEGIN:DAYLIGHT
TZOFFSETFROM:-0700
TZOFFSETTO:-0600
DTSTART:20260308T090000
TZNAME:MDT
END:DAYLIGHT
END:VTIMEZONE
BEGIN:VEVENT
SUMMARY:Next to Normal
DESCRIPTION:Winner of three Tony Awards and the Pulitzer Prize for Drama
 \, Next to Normal deploys wry humor and brutal honesty to explore how a 
 family navigates their darkest hours — and finds the path to new begin
 nings.\n\nOn the surface\, Diana has it all — a house in the suburbs\,
  a successful architect husband\, and two sharp-witted teens. But beneat
 h this perfect facade is a nuclear family on the verge of exploding\, do
 ing everything they can to make it through another day in one piece. Pro
 pelled by an unforgettable pop-rock score\, this is an honest and unflin
 ching ride through the complexities of mental health and unconditional l
 ove.\n\nThis groundbreaking musical is a story of love and resilience th
 at hits close to home\, making you laugh\, cry\, and reflect on the stru
 ggles that shape us along the way.
URL;VALUE=URI:https://frontporchne.com/events/next-to-normal/
UID:urn:uuid:ef6591bb-d85a-4619-ba5e-c8ebd80bafe0
STATUS:CONFIRMED
ORGANIZER:
DTSTAMP:20260423T072625Z
DTSTART;TZID=America/Denver:20260403T190000
DTEND;TZID=America/Denver:20260503T220000
LOCATION:1400 Curtis Street
END:VEVENT
END:VCALENDAR