BEGIN:VCALENDAR
METHOD:PUBLISH
VERSION:2.0
CALSCALE:GREGORIAN
PRODID:-//NONSGML WPForms//NONSGML Sugar Calendar Feeds v3.11.0//EN
X-WR-CALNAME:One Night Stand Theater presents "Bad Bedtime Stories" Apri
 l 13
X-WR-CALDESC:Front Porch
X-WR-TIMEZONE:America/Denver
BEGIN:VTIMEZONE
TZID:America/Denver
BEGIN:STANDARD
TZOFFSETFROM:-0600
TZOFFSETTO:-0700
DTSTART:20241103T080000
TZNAME:MST
END:STANDARD
BEGIN:DAYLIGHT
TZOFFSETFROM:-0700
TZOFFSETTO:-0600
DTSTART:20250309T090000
TZNAME:MDT
END:DAYLIGHT
END:VTIMEZONE
BEGIN:VTIMEZONE
TZID:America/Denver
BEGIN:STANDARD
TZOFFSETFROM:-0600
TZOFFSETTO:-0700
DTSTART:20241103T080000
TZNAME:MST
END:STANDARD
BEGIN:DAYLIGHT
TZOFFSETFROM:-0700
TZOFFSETTO:-0600
DTSTART:20250309T090000
TZNAME:MDT
END:DAYLIGHT
END:VTIMEZONE
BEGIN:VEVENT
SUMMARY:One Night Stand Theater presents "Bad Bedtime Stories" April 13
DESCRIPTION:One Night Stand Theater presents “Bad Bedtime Stories” o
 n Sunday\, April 13\, 7:30 p.m. at Vintage Theatre\, 1468 Dayton St. in 
 Aurora. This production features performances and readings of fairy tale
 s and bedtime stories revised\, modernized and satirized for adults: “
 Bedtime at Camp Homer” by Toby Inoue\, “Granny’s Shack” by Ross 
 Peter Nelson\, “The End of Innocence” by Jeffrey Neuman\, “Scrub C
 leans Up” by Jennie MacDonald\, “The Godmother” by Dave Ufford\, 
 Ghost Train” by Jeffrey O’Leary\, and “Beast” and “The Curse
 ” by Lisa Dellagiarino Feriend. Tickets are $12\; to make reservations
 \, go to www.OneNightStandTheater.org\, e-mail tickets@onenightstandthea
 ter.org or phone/text 303-725-4959. The show is recommended for mature a
 udiences. More information is available at www.onenightstandtheater.org.
URL;VALUE=URI:https://frontporchne.com/events/one-night-stand-theater-pr
 esents-bad-bedtime-stories-april-13/
UID:urn:uuid:f0dce67f-c81e-468e-a62f-aa940b183ac1
STATUS:CONFIRMED
ORGANIZER:
DTSTAMP:20260423T234119Z
DTSTART;TZID=America/Denver:20250413T193000
DTEND;TZID=America/Denver:20250413T213000
LOCATION:1468 Dayton
END:VEVENT
END:VCALENDAR