BEGIN:VCALENDAR
METHOD:PUBLISH
VERSION:2.0
CALSCALE:GREGORIAN
PRODID:-//NONSGML WPForms//NONSGML Sugar Calendar Feeds v3.11.0//EN
X-WR-CALNAME:Opera in the Park 2025: Bella Voce
X-WR-CALDESC:Front Porch
X-WR-TIMEZONE:America/Denver
BEGIN:VTIMEZONE
TZID:America/Denver
BEGIN:STANDARD
TZOFFSETFROM:-0600
TZOFFSETTO:-0700
DTSTART:20251102T080000
TZNAME:MST
END:STANDARD
END:VTIMEZONE
BEGIN:VTIMEZONE
TZID:America/Denver
BEGIN:STANDARD
TZOFFSETFROM:-0600
TZOFFSETTO:-0700
DTSTART:20251102T080000
TZNAME:MST
END:STANDARD
END:VTIMEZONE
BEGIN:VEVENT
SUMMARY:Opera in the Park 2025: Bella Voce
DESCRIPTION:Join us for Opera in the Park 2025: Bella Voce\, a magical o
 pen-air concert celebrating the grandeur of Italian opera and the brilli
 ance of American classics. Featuring stunning arias\, duets\, and ensemb
 les\, this program showcases the beauty of the operatic voice in a spect
 acular outdoor setting.\n\nEnjoy selections from Mozart\, Verdi\, Bernst
 ein\, and Gershwin\, performed by Boulder Opera’s finest singers with 
 a live orchestra. From the soaring melodies of Don Giovanni and Rigolett
 o to the American elegance of Candide and Porgy and Bess\, this program 
 blends the best of Italian and American opera traditions into an unforge
 ttable evening of music.\n\nExperience the magic of opera under the star
 s and immerse yourself in an evening of breathtaking music!
URL;VALUE=URI:https://frontporchne.com/events/opera-in-the-park-2025-bel
 la-voce/
UID:urn:uuid:432a0cd6-71bb-450b-899d-86c3e44cbe19
STATUS:CONFIRMED
ORGANIZER:
DTSTAMP:20260423T115318Z
DTSTART;TZID=America/Denver:20251115T190000
DTEND;TZID=America/Denver:20251115T203000
LOCATION:Boulder Bandshell\, 1212 Canyon Blvd\, Boulder\, CO 80302\, Uni
 ted States
END:VEVENT
END:VCALENDAR