BEGIN:VCALENDAR
METHOD:PUBLISH
VERSION:2.0
CALSCALE:GREGORIAN
PRODID:-//NONSGML WPForms//NONSGML Sugar Calendar Feeds v3.11.0//EN
X-WR-CALNAME:Poker Night
X-WR-CALDESC:Front Porch
X-WR-TIMEZONE:America/Denver
BEGIN:VTIMEZONE
TZID:America/Denver
BEGIN:DAYLIGHT
TZOFFSETFROM:-0700
TZOFFSETTO:-0600
DTSTART:20260308T090000
TZNAME:MDT
END:DAYLIGHT
END:VTIMEZONE
BEGIN:VTIMEZONE
TZID:America/Denver
BEGIN:DAYLIGHT
TZOFFSETFROM:-0700
TZOFFSETTO:-0600
DTSTART:20260308T090000
TZNAME:MDT
END:DAYLIGHT
END:VTIMEZONE
BEGIN:VEVENT
SUMMARY:Poker Night
DESCRIPTION:Calling all card sharks! Join us at Fiction for a monthly lo
 w-stakes poker night - now on the second Friday of every month. It's fre
 e to play\, so just show up\, grab a beer\, and enjoy a fun evening play
 ing cards!\nWinners will receive Fiction prizes\, including some free be
 er on your next visit.
URL;VALUE=URI:https://frontporchne.com/events/poker-night-5/
UID:urn:uuid:a2372e07-752d-4a33-a94f-0aa9f37fe4cb
STATUS:CONFIRMED
ORGANIZER:
DTSTAMP:20260424T162318Z
DTSTART;TZID=America/Denver:20260508T183000
DTEND;TZID=America/Denver:20260508T210000
LOCATION:Fiction Beer Company\n7101 East Colfax Avenue
END:VEVENT
END:VCALENDAR