BEGIN:VCALENDAR
METHOD:PUBLISH
VERSION:2.0
CALSCALE:GREGORIAN
PRODID:-//NONSGML WPForms//NONSGML Sugar Calendar Feeds v3.11.0//EN
X-WR-CALNAME:Sean Fogelson
X-WR-CALDESC:Front Porch
X-WR-TIMEZONE:America/Denver
BEGIN:VTIMEZONE
TZID:America/Denver
BEGIN:STANDARD
TZOFFSETFROM:-0600
TZOFFSETTO:-0700
DTSTART:20251102T080000
TZNAME:MST
END:STANDARD
BEGIN:DAYLIGHT
TZOFFSETFROM:-0700
TZOFFSETTO:-0600
DTSTART:20260308T090000
TZNAME:MDT
END:DAYLIGHT
END:VTIMEZONE
BEGIN:VTIMEZONE
TZID:America/Denver
BEGIN:STANDARD
TZOFFSETFROM:-0600
TZOFFSETTO:-0700
DTSTART:20251102T080000
TZNAME:MST
END:STANDARD
BEGIN:DAYLIGHT
TZOFFSETFROM:-0700
TZOFFSETTO:-0600
DTSTART:20260308T090000
TZNAME:MDT
END:DAYLIGHT
END:VTIMEZONE
BEGIN:VEVENT
SUMMARY:Sean Fogelson
DESCRIPTION:Comedy Works South presents Sean Fogelson performing April 2
 3rd 2026!\nVIP tickets include priority seating in rows seven and eight\
 , (behind Lucy preferred seating in rows one through six)!\n\nSean Fogel
 son is launching into stardom with an unmatched charisma. Starting on Ti
 kTok as That One Mailman bringing belly chuckles and joy to millions acr
 oss the platform now going on tour with Gary Owen and doing the same to 
 a live audience. He will tell you\, “This ain’t no TikTok skit” an
 d he means it. His stage presence is unmatched\, engaging with the audie
 nce and delivering true\, authentic and hilarious stories of his life. F
 rom Cincinnati\, Ohio to TikTok and now live on stage!\n\nLooking to din
 e before the show? Dine at Lucy Restaurant to get preferred seating in r
 ows 1 - 6. Make your reservations now at LucyRestaurant.com.
URL;VALUE=URI:https://frontporchne.com/events/sean-fogelson/
UID:urn:uuid:a69b0349-efa5-4014-a626-1762b803ba31
STATUS:CONFIRMED
ORGANIZER:
DTSTAMP:20260423T072436Z
DTSTART;TZID=America/Denver:20260423T193000
DTEND;TZID=America/Denver:20260423T210000
LOCATION:Comedy Works South\n5345 Landmark Place Greenwood Village\, CO 
 80111
END:VEVENT
END:VCALENDAR