BEGIN:VCALENDAR
METHOD:PUBLISH
VERSION:2.0
CALSCALE:GREGORIAN
PRODID:-//NONSGML WPForms//NONSGML Sugar Calendar Feeds v3.11.0//EN
X-WR-CALNAME:Sip and Script: Modern Calligraphy Fun!
X-WR-CALDESC:Front Porch
X-WR-TIMEZONE:America/Denver
BEGIN:VTIMEZONE
TZID:America/Denver
BEGIN:DAYLIGHT
TZOFFSETFROM:-0700
TZOFFSETTO:-0600
DTSTART:20260308T090000
TZNAME:MDT
END:DAYLIGHT
END:VTIMEZONE
BEGIN:VTIMEZONE
TZID:America/Denver
BEGIN:DAYLIGHT
TZOFFSETFROM:-0700
TZOFFSETTO:-0600
DTSTART:20260308T090000
TZNAME:MDT
END:DAYLIGHT
END:VTIMEZONE
BEGIN:VEVENT
SUMMARY:Sip and Script: Modern Calligraphy Fun!
DESCRIPTION:Join us for this great new workshop from Sip and Script for 
 pretty lettering! Whether you’re a stationery nerd\, DIY Bride-to-be\,
  or just a crafty individual\, you’ll be introduced to modern calligra
 phy with a pointed dip pen and ink in this workshop. We will cover all t
 he basics and prepare you to add those unique lettered details to your s
 nail mail\, wedding paper goods\, home decor\, and more! The perfect cra
 fty afternoon out!\n\nClass includes 1.5 hours of instruction and demons
 tration\, our beginner’s calligraphy kit (two nibs\, black ink pot\, 2
  letter guides\, tracing paper\, and straight pen holder)\, and all mate
 rials to write on. Everything is yours to keep at the end of the worksho
 p!
URL;VALUE=URI:https://frontporchne.com/events/sip-and-script-modern-call
 igraphy-fun/
UID:urn:uuid:22485287-2e97-47cb-b1aa-3847f34c6ad4
STATUS:CONFIRMED
ORGANIZER:
DTSTAMP:20260424T162345Z
DTSTART;TZID=America/Denver:20260531T133000
DTEND;TZID=America/Denver:20260531T150000
LOCATION:Vanishing West Ciders\n9735 E Colfax Ave.\nAurora\, CO 80010
END:VEVENT
END:VCALENDAR