BEGIN:VCALENDAR
METHOD:PUBLISH
VERSION:2.0
CALSCALE:GREGORIAN
PRODID:-//NONSGML WPForms//NONSGML Sugar Calendar Feeds v3.11.0//EN
X-WR-CALNAME:Skyhawks Mini-Hawk Camp (Baseball\, Basketball\, Soccer)
X-WR-CALDESC:Front Porch
X-WR-TIMEZONE:America/Denver
BEGIN:VTIMEZONE
TZID:America/Denver
BEGIN:DAYLIGHT
TZOFFSETFROM:-0700
TZOFFSETTO:-0600
DTSTART:20260308T090000
TZNAME:MDT
END:DAYLIGHT
END:VTIMEZONE
BEGIN:VTIMEZONE
TZID:America/Denver
BEGIN:DAYLIGHT
TZOFFSETFROM:-0700
TZOFFSETTO:-0600
DTSTART:20260308T090000
TZNAME:MDT
END:DAYLIGHT
END:VTIMEZONE
BEGIN:VEVENT
SUMMARY:Skyhawks Mini-Hawk Camp (Baseball\, Basketball\, Soccer)
DESCRIPTION:Embark on an adventure with Skyhawks Mini-Hawk where younger
  children can explore a variety of sports. Mini-Hawk programs offer a fu
 n\, structured learning environment while enhancing balance and coordina
 tion. Campers improve athletically while learning sportsmanship and team
 work. Perfect for a playful introduction to athletics!
URL;VALUE=URI:https://frontporchne.com/events/skyhawks-mini-hawk-camp-ba
 seball-basketball-soccer-3/
UID:urn:uuid:22751bf4-4723-49ca-833f-61a7154a8019
STATUS:CONFIRMED
ORGANIZER:
DTSTAMP:20260425T011209Z
DTSTART;TZID=America/Denver:20260706T090000
DTEND;TZID=America/Denver:20260710T120000
LOCATION:Southeast Recreation Center Fieldhouse\n25400 E ALEXANDER DR\nA
 URORA\, CO 80016-5700
END:VEVENT
END:VCALENDAR