BEGIN:VCALENDAR
METHOD:PUBLISH
VERSION:2.0
CALSCALE:GREGORIAN
PRODID:-//NONSGML WPForms//NONSGML Sugar Calendar Feeds v3.11.0//EN
X-WR-CALNAME:The Sandman: A Newfangled Western
X-WR-CALDESC:Front Porch
X-WR-TIMEZONE:America/Denver
BEGIN:VTIMEZONE
TZID:America/Denver
BEGIN:DAYLIGHT
TZOFFSETFROM:-0700
TZOFFSETTO:-0600
DTSTART:20260308T090000
TZNAME:MDT
END:DAYLIGHT
END:VTIMEZONE
BEGIN:VTIMEZONE
TZID:America/Denver
BEGIN:DAYLIGHT
TZOFFSETFROM:-0700
TZOFFSETTO:-0600
DTSTART:20260308T090000
TZNAME:MDT
END:DAYLIGHT
END:VTIMEZONE
BEGIN:VEVENT
SUMMARY:The Sandman: A Newfangled Western
DESCRIPTION:With live music performed by the Gasoline Lollipops\, this e
 pic adventure chronicles the journey of characters ripped from the lyric
 s of the incomparable Clay Rose. The Sandman is a gritty saga of love\, 
 loss\, and redemption.\n\nThursday - Saturday: 7:30pm (doors open at 6:3
 0pm)\nSundays: 2:00pm (doors open at 1:00pm)
URL;VALUE=URI:https://frontporchne.com/events/the-sandman-a-newfangled-w
 estern/
UID:urn:uuid:db63e9c6-e123-42aa-b7e5-0e8ad6999285
STATUS:CONFIRMED
ORGANIZER:
DTSTAMP:20260423T145956Z
DTSTART;TZID=America/Denver:20260507T000000
DTEND;TZID=America/Denver:20260517T120000
LOCATION:Wonderbound: 3824 Dahlia St\, Denver\, CO 80207
END:VEVENT
END:VCALENDAR