BEGIN:VCALENDAR
METHOD:PUBLISH
VERSION:2.0
CALSCALE:GREGORIAN
PRODID:-//NONSGML WPForms//NONSGML Sugar Calendar Feeds v3.11.0//EN
X-WR-CALNAME:Thee Phantom &amp\; The Illharmonic Orchestra
X-WR-CALDESC:Front Porch
X-WR-TIMEZONE:America/Denver
BEGIN:VTIMEZONE
TZID:America/Denver
BEGIN:DAYLIGHT
TZOFFSETFROM:-0700
TZOFFSETTO:-0600
DTSTART:20260308T090000
TZNAME:MDT
END:DAYLIGHT
END:VTIMEZONE
BEGIN:VTIMEZONE
TZID:America/Denver
BEGIN:DAYLIGHT
TZOFFSETFROM:-0700
TZOFFSETTO:-0600
DTSTART:20260308T090000
TZNAME:MDT
END:DAYLIGHT
END:VTIMEZONE
BEGIN:VEVENT
SUMMARY:Thee Phantom &amp\; The Illharmonic Orchestra
DESCRIPTION:When was the last time you witnessed strings\, horns\, and w
 oodwinds sharing the stage with a Hip-Hop act? Now imagine adding a part
 y-rocking DJ\, a powerhouse soul songstress\, and a fire-breathing MC\, 
 and even that only scratches the surface of what you'll experience when 
 Thee Phantom &amp\; The Illharmonic Orchestra take the stage.\n\nThe ens
 emble's recent performance of Too $hort's "Blow the Whistle" reached 1 M
 illion Views on TikTok while their rendition of "Back That Thang Up" at 
 the beautiful Winspear Opera House in Dallas racked up over 5 Million vi
 ews.\n\nBlending the raw energy of Hip-Hop with the sweeping power of or
 chestral accompaniment\, The Illharmonic is a genre-defying ensemble tha
 t continues to captivate audiences across the country. In 2001\, Phantom
  made history as the first Hip-Hop artist to perform at Philadelphia’s
  Kimmel Center\, backed by members of the Philadelphia Orchestra and the
  Chamber Orchestra of Philadelphia.
URL;VALUE=URI:https://frontporchne.com/events/thee-phantom-the-illharmon
 ic-orchestra/
UID:urn:uuid:2a12ba93-d903-4555-b11f-40796eeefcbd
STATUS:CONFIRMED
ORGANIZER:
DTSTAMP:20260425T040041Z
DTSTART;TZID=America/Denver:20260509T200000
DTEND;TZID=America/Denver:20260509T220000
LOCATION:Paramount Denver 1621 Glenarm Pl Denver\, CO 80202
END:VEVENT
END:VCALENDAR