BEGIN:VCALENDAR
METHOD:PUBLISH
VERSION:2.0
CALSCALE:GREGORIAN
PRODID:-//NONSGML WPForms//NONSGML Sugar Calendar Feeds v3.11.0//EN
X-WR-CALNAME:Tim Dillon
X-WR-CALDESC:Front Porch
X-WR-TIMEZONE:America/Denver
BEGIN:VTIMEZONE
TZID:America/Denver
BEGIN:STANDARD
TZOFFSETFROM:-0600
TZOFFSETTO:-0700
DTSTART:20251102T080000
TZNAME:MST
END:STANDARD
END:VTIMEZONE
BEGIN:VTIMEZONE
TZID:America/Denver
BEGIN:STANDARD
TZOFFSETFROM:-0600
TZOFFSETTO:-0700
DTSTART:20251102T080000
TZNAME:MST
END:STANDARD
END:VTIMEZONE
BEGIN:VEVENT
SUMMARY:Tim Dillon
DESCRIPTION:Comedy Works South presents Tim Dillion performing January 8
 th\, 9th & 10th 2026!\n\nVIP includes priority seating in rows seven and
  eight\, (behind Lucy preferred seating in rows one through six)!\n\nTim
  Dillon is a stand-up comedian\, writer\, and actor\, known for his no-h
 olds-barred humor and incisive social commentary. His latest Netflix spe
 cial\, Tim Dillon: I'm Your Mother\, premiered April 15th on Netflix wor
 ldwide. Filmed at The Mothership in Austin\, Dillon’s special is an un
 apologetic ride through today’s chaos. With his signature humor\, Dill
 on tackles everything from his odd loyalty to the British royal family t
 o roasting the world’s absurdities and more with no filter. Last fall 
 the comedian released his Netflix special\, Tim Dillon: This Is Your Cou
 ntry. Framed as a Jerry Springer-style talk show\, the special explored 
 controversial topics and human behavior through Dillon’s interactions 
 with real people and his trademark boldness. Dillon first made waves wit
 h his 2022 Netflix special\, Tim Dillon: A Real Hero\, in which he rants
  about fast food\, living in Texas\, Disney adults and the reason no one
  should be called a hero. He originally appeared on Netflix in 2018 with
  a short set as part of The Comedy Lineup. Dillon’s podcast\, The Tim 
 Dillon Show\, averages a million viewers a week between video and audio 
 downloads. He tours theaters internationally and has been a guest on The
  Joe Rogan Experience 15 times. On-screen\, Dillon recently starred in E
 li Roth’s box office hit Thanksgiving and appeared in Todd Phillips' J
 oker: Folie à Deux.\n\nLooking to dine before the show? Dine at Lucy Re
 staurant to get preferred seating (rows 1 - 6). Make your reservations n
 ow at LucyRestaurant.com.
URL;VALUE=URI:https://frontporchne.com/events/tim-dillon/
UID:urn:uuid:a8141969-a1c0-400c-a91c-94c5193bc78d
STATUS:CONFIRMED
ORGANIZER:
DTSTAMP:20260424T163230Z
DTSTART;TZID=America/Denver:20260108T193000
DTEND;TZID=America/Denver:20260110T193000
LOCATION:Comedy Works South\n5345 Landmark Place Greenwood Village\, CO 
 80111
END:VEVENT
END:VCALENDAR