BEGIN:VCALENDAR
METHOD:PUBLISH
VERSION:2.0
CALSCALE:GREGORIAN
PRODID:-//NONSGML WPForms//NONSGML Sugar Calendar Feeds v3.11.0//EN
X-WR-CALNAME:TOP SHELF COMEDY SHOW AT THE PARKER HOTEL
X-WR-CALDESC:Front Porch
X-WR-TIMEZONE:America/Denver
BEGIN:VTIMEZONE
TZID:America/Denver
BEGIN:DAYLIGHT
TZOFFSETFROM:-0600
TZOFFSETTO:-0600
DTSTART:20250404T080000
TZNAME:MDT
END:DAYLIGHT
END:VTIMEZONE
BEGIN:VTIMEZONE
TZID:America/Denver
BEGIN:DAYLIGHT
TZOFFSETFROM:-0600
TZOFFSETTO:-0600
DTSTART:20250404T080000
TZNAME:MDT
END:DAYLIGHT
END:VTIMEZONE
BEGIN:VEVENT
SUMMARY:TOP SHELF COMEDY SHOW AT THE PARKER HOTEL
DESCRIPTION:THE WAIT IS OVER!! ANNOUNCING...\,\nTop Shelf Comedy at Brie
 re West End\nParker Hotel & Hold Please Productions are teaming up to br
 ing Live Professional Standup Comedy to Parker Co.\nGet ready for a nigh
 t of big laughs and unforgettable entertainment right here in the heart 
 of Parker!\nJoin us for an exclusive comedy show featuring Nationally & 
 Internationally Touring Professional Comics.\nGrab your friends & family
  and enjoy an evening of comedy you won't want to miss.\nLimited tickets
  available - grab yours before they're gone!\nTicket Link:\nhttps://come
 dynightbwe.tripleseattickets.com/registration/select\n\nHost/Comic Terri
  Barton Gregg is host of the place to be!!! Sheâ€™s the Queen of this sc
 ene and curator of outstanding nights of stand-up comedy.\n\nHeadliner\,
  Sam Adams  is a true local legend known for his quick wit and hilarious
  acts.\nFeaturing Janae Burris\, \nComics Alex Yakubovich\, & \nNicholas
  Holtvluwer  - a powerhouse lineup guaranteed to keep you laughing all n
 ight long.\n\nBig Props & Many Thanks to \nPamela Ann Briere\, Amia Farr
 is\, & \nAnne Morrissey Yakubovich for supporting Live Stand Up Comedy ð
 Ÿ’‹\n\nDoors open at 7:00 pm with a show start time at 8:00 pm. $20\n2-d
 rink minimum is required.\n21+ only.\n\nUPPER DECK @ THE PARKER HOTEL \n
 18595 Mainstreet \nParker\, CO 80134 \nFriday Oct. 3rd\, 2025 7- 9:30 MS
 T!!\nLOVES TBG
URL;VALUE=URI:https://frontporchne.com/events/top-shelf-comedy-show-at-t
 he-parker-hotel/
UID:urn:uuid:7a13e163-ec47-4430-be8c-fc90b82dd1ed
STATUS:CONFIRMED
ORGANIZER:
DTSTAMP:20260426T032515Z
DTSTART;TZID=America/Denver:20251003T200000
DTEND;TZID=America/Denver:20251003T213000
LOCATION:UPPER DECK @ THE PARKER HOTELÂ \n18595 MainstreetÂ \nParker\, C
 O 80134Â 
END:VEVENT
END:VCALENDAR