BEGIN:VCALENDAR
METHOD:PUBLISH
VERSION:2.0
CALSCALE:GREGORIAN
PRODID:-//NONSGML WPForms//NONSGML Sugar Calendar Feeds v3.11.0//EN
X-WR-CALNAME:Volcano: A Science Comedy Show – Ben Miller
X-WR-CALDESC:Front Porch
X-WR-TIMEZONE:America/Denver
BEGIN:VTIMEZONE
TZID:America/Denver
BEGIN:STANDARD
TZOFFSETFROM:-0600
TZOFFSETTO:-0700
DTSTART:20251102T080000
TZNAME:MST
END:STANDARD
BEGIN:DAYLIGHT
TZOFFSETFROM:-0700
TZOFFSETTO:-0600
DTSTART:20260308T090000
TZNAME:MDT
END:DAYLIGHT
END:VTIMEZONE
BEGIN:VTIMEZONE
TZID:America/Denver
BEGIN:STANDARD
TZOFFSETFROM:-0600
TZOFFSETTO:-0700
DTSTART:20251102T080000
TZNAME:MST
END:STANDARD
BEGIN:DAYLIGHT
TZOFFSETFROM:-0700
TZOFFSETTO:-0600
DTSTART:20260308T090000
TZNAME:MDT
END:DAYLIGHT
END:VTIMEZONE
BEGIN:VEVENT
SUMMARY:Volcano: A Science Comedy Show – Ben Miller
DESCRIPTION:What happens when a comedian walks into a volcano?\n\nIn 202
 3\, Ben Miller was the artist in residence at Hawaii Volcanoes National 
 Park\, the first stand-up comedian selected. This was probably a terribl
 e idea on their part.\n\nCome watch this show where scientist-turned-com
 edian Ben Miller explores volcanology\, entomology\, Hawaiian history\, 
 space volcanoes\, cats\, cookies and more. Ben Miller is an NYC-based sc
 ientist-turned-comedian who has been working for the past nine years. In
  that time\, he performed at top clubs in the city\, including Broadway 
 Comedy Club\, Carolines and The Stand. Ben was once ranked as the top ro
 ast battler in NYC. He has a degree in materials science and engineering
 \, worked on a science bus\, 3D-printed cookies and has defused a few ba
 r fights while on stage.\n\nIn 2022\, Ben Miller’s debut hour\, “Sta
 nd-Up Science\,” had a completely sold-out run at the Edinburgh Fringe
  Festival\, and he now tours internationally.
URL;VALUE=URI:https://frontporchne.com/events/volcano-a-science-comedy-s
 how-ben-miller/
UID:urn:uuid:591d67d4-5c83-43ff-b006-49ce5d95a56e
STATUS:CONFIRMED
ORGANIZER:
DTSTAMP:20260423T072702Z
DTSTART;TZID=America/Denver:20260424T190000
DTEND;TZID=America/Denver:20260424T210000
LOCATION:Denver Museum of Nature &amp\; Science\n2001 Colorado Blvd\nDen
 ver\, CO 80205
END:VEVENT
END:VCALENDAR