BEGIN:VCALENDAR
METHOD:PUBLISH
VERSION:2.0
CALSCALE:GREGORIAN
PRODID:-//NONSGML WPForms//NONSGML Sugar Calendar Feeds v3.11.0//EN
X-WR-CALNAME:Yonder Mountain String Band
X-WR-CALDESC:Front Porch
X-WR-TIMEZONE:America/Denver
BEGIN:VTIMEZONE
TZID:America/Denver
BEGIN:DAYLIGHT
TZOFFSETFROM:-0700
TZOFFSETTO:-0600
DTSTART:20260308T090000
TZNAME:MDT
END:DAYLIGHT
END:VTIMEZONE
BEGIN:VTIMEZONE
TZID:America/Denver
BEGIN:DAYLIGHT
TZOFFSETFROM:-0700
TZOFFSETTO:-0600
DTSTART:20260308T090000
TZNAME:MDT
END:DAYLIGHT
END:VTIMEZONE
BEGIN:VEVENT
SUMMARY:Yonder Mountain String Band
DESCRIPTION:Yonder Mountain String Band\, with the Fretliners\nSaturday\
 , August 15 at 7:30 pm
URL;VALUE=URI:https://frontporchne.com/events/yonder-mountain-string-ban
 d/
UID:urn:uuid:297dd5b8-3d84-42e1-8648-53766f36edef
STATUS:CONFIRMED
ORGANIZER:
DTSTAMP:20260424T162452Z
DTSTART;TZID=America/Denver:20260815T193000
DTEND;TZID=America/Denver:20260815T220000
LOCATION:Arvada Center 6901 Wadsworth Blvd. Arvada\, CO 80003
END:VEVENT
END:VCALENDAR